0.000833333333333
0.000000000000000
0.000000000000000
-0.000833333333333
-53.860846736104357
-25.600051626330046
